BEGIN:VCALENDAR
VERSION:2.0
PRODID:-//THE NEW FLO 107.1 - ECPv6.15.20//NONSGML v1.0//EN
CALSCALE:GREGORIAN
METHOD:PUBLISH
X-ORIGINAL-URL:https://flodenver.com
X-WR-CALDESC:Events for THE NEW FLO 107.1
REFRESH-INTERVAL;VALUE=DURATION:PT1H
X-Robots-Tag:noindex
X-PUBLISHED-TTL:PT1H
BEGIN:VTIMEZONE
TZID:America/Denver
BEGIN:DAYLIGHT
TZOFFSETFROM:-0700
TZOFFSETTO:-0600
TZNAME:MDT
DTSTART:20250309T090000
END:DAYLIGHT
BEGIN:STANDARD
TZOFFSETFROM:-0600
TZOFFSETTO:-0700
TZNAME:MST
DTSTART:20251102T080000
END:STANDARD
BEGIN:DAYLIGHT
TZOFFSETFROM:-0700
TZOFFSETTO:-0600
TZNAME:MDT
DTSTART:20260308T090000
END:DAYLIGHT
BEGIN:STANDARD
TZOFFSETFROM:-0600
TZOFFSETTO:-0700
TZNAME:MST
DTSTART:20261101T080000
END:STANDARD
BEGIN:DAYLIGHT
TZOFFSETFROM:-0700
TZOFFSETTO:-0600
TZNAME:MDT
DTSTART:20270314T090000
END:DAYLIGHT
BEGIN:STANDARD
TZOFFSETFROM:-0600
TZOFFSETTO:-0700
TZNAME:MST
DTSTART:20271107T080000
END:STANDARD
END:VTIMEZONE
BEGIN:VEVENT
DTSTART;TZID=America/Denver:20260509T110000
DTEND;TZID=America/Denver:20260509T130000
DTSTAMP:20260425T115401
CREATED:20260211T211803Z
LAST-MODIFIED:20260312T165720Z
UID:10000411-1778324400-1778331600@flodenver.com
SUMMARY:Mother's Day Dinner
DESCRIPTION:Come Join us for amazing food\, fellowship\, the Word\, and Worship. This event is for mom’s and daughter all over the metro area and it’s free!  There will be a hope-filled message and testimony.  You don’t want to miss it.  Join us at Hope in the City 6405 Monaco St. Go to our website to register!
URL:https://flodenver.com/event/mothers-day-luncheon/
LOCATION:Hope in the City\, 6405 Monaco St.\, Commerce City\, Co 80022
ATTACH;FMTTYPE=image/png:https://flodenver.com/wp-content/uploads/2026/02/mothers-day-dinner-flyer.png
ORGANIZER;CN="Hope in the City":MAILTO:hopeinthecityccadm@gmail.com
END:VEVENT
BEGIN:VEVENT
DTSTART;TZID=America/Denver:20260620T170000
DTEND;TZID=America/Denver:20260620T200000
DTSTAMP:20260425T115401
CREATED:20260414T170604Z
LAST-MODIFIED:20260414T213649Z
UID:10000435-1781974800-1781985600@flodenver.com
SUMMARY:Hope in the City Father's Day Carshow
DESCRIPTION:Celebrate Father’s Day weekend in style at the Hope in the City Father’s Day Car Show! Join us for an unforgettable evening filled with custom classics\, lowriders\, and timeless rides that bring the culture to life. \nWhether you’re a car enthusiast or just looking for a great community vibe\, this free event has something for everyone—live fellowship\, good food\, and a powerful word that brings it all together. Bring your family\, invite your friends\, and come experience a space where faith and culture meet. \nGot a classic car or lowrider bike? Pull up and showcase your ride—just scan the QR code to enter! \nSaturday\, June 20 | 5–8 PMHope in the City Church \nCall 720.827.3084 with any questions about out the event or for submissions to the show.
URL:https://flodenver.com/event/hope-in-the-city-fathers-day-carshow/
LOCATION:Hope in the City\, 6405 Monaco St.\, Commerce City\, Co 80022
CATEGORIES:Featured
ATTACH;FMTTYPE=image/png:https://flodenver.com/wp-content/uploads/2026/04/Screenshot-2026-04-14-153532.png
ORGANIZER;CN="Hope in the City":MAILTO:hopeinthecityccadm@gmail.com
END:VEVENT
END:VCALENDAR